BEGIN:VCALENDAR
VERSION:2.0
PRODID:-//eventon.com NONSGML v1.0//EN
CALSCALE:GREGORIAN
METHOD:PUBLISH
BEGIN:VEVENT
UID:69e7c212203dc
DTSTAMP:20260421T182938Z
DTSTART:20200216
DTEND:20200217
LOCATION:Mercado municipal de abastos Plaza de los Dolores
SUMMARY:Mercadillo de la Granja - 16 de Febrero
DESCRIPTION:Mercadillo de la Granja &#8211; 16 de Febrero ANTIGÜEDADES\,  
 VINTAGE\, ARTE Y ARTESANÍA este domingo 16 de febrero de 10:00 a 15:00h en
  el mercado municipal de abastos\,  en Plaza de los Dolores.\nhttps://www.e
 ventosdesegovia.com/events/mercadillo-de-la-granja-16-de-febrero/
URL:https://www.eventosdesegovia.com/events/mercadillo-de-la-granja-16-de-febrero/
END:VEVENT
END:VCALENDAR