BEGIN:VCALENDAR
VERSION:2.0
PRODID:-//eventon.com NONSGML v1.0//EN
CALSCALE:GREGORIAN
METHOD:PUBLISH
BEGIN:VEVENT
UID:69e7a165eaa22
DTSTAMP:20260421T161013Z
DTSTART:20200215
DTEND:20200216
LOCATION:
SUMMARY:Fútbol - Jornada 19 Primera División Provincial de Aficionados
DESCRIPTION:Fútbol &#8211; Jornada 19 Primera División Provincial de Afic
 ionados Los días 15 y 16 de Febrero se disputa la Jornada 19 de Primera Di
 visión Provincial de Aficionados\,  con los siguientes encuentros: SÁBADO
  15 FEBRERO 16:00 &#8211; C.D. COCA 🆚 C.D Gimnastica Ayllonesa 16:30 &#8
 211; CD Cuéllar Funeraria Santa Teresa 🆚[..]\nhttps://www.eventosdesego
 via.com/events/futbol-jornada-19-primera-division-provincial-de-aficionados
 /
URL:https://www.eventosdesegovia.com/events/futbol-jornada-19-primera-division-provincial-de-aficionados/
END:VEVENT
END:VCALENDAR