BEGIN:VCALENDAR
VERSION:2.0
PRODID:-//eventon.com NONSGML v1.0//EN
CALSCALE:GREGORIAN
METHOD:PUBLISH
BEGIN:VEVENT
UID:69e75d39a89a2
DTSTAMP:20260421T111921Z
DTSTART:20210809
DTEND:20210810
LOCATION:Centro Social Corpus Calle Juan Bravo\,  2
SUMMARY:Talleres y Actividades en Centro Social Corpus
DESCRIPTION:Talleres y Actividades en Centro Social Corpus (C/ Juan Bravo\,
   2. Segovia) La Fundación Caja Segovia arranca los cursos de francés\,  
 que tendrán lugar\,  en los niveles iniciación e intermedio\,  con activi
 dades especiales para niños y jóvenes. Además del programa de la Fundaci
 ón\,  la entidad ha anunciado nuevos talleres para[..]\nhttps://www.evento
 sdesegovia.com/events/talleres-y-actividades-en-centro-social-corpus/
URL:https://www.eventosdesegovia.com/events/talleres-y-actividades-en-centro-social-corpus/
END:VEVENT
END:VCALENDAR