BEGIN:VCALENDAR
VERSION:2.0
PRODID:-//eventon.com NONSGML v1.0//EN
CALSCALE:GREGORIAN
METHOD:PUBLISH
BEGIN:VEVENT
UID:69e79d804446d
DTSTAMP:20260421T155336Z
DTSTART:20200217T181500Z
DTEND:20200217T193000Z
LOCATION:Segovia Segovia
SUMMARY:Taller de Auto-Test Kinesiológico en Centro Corpus
DESCRIPTION:Taller de Auto-Test Kinesiológico en Centro Corpus. Lunes 17 d
 e Febrero\,  de 19:15 a 20:30h\,  en Centro Corpus de Fundación Caja Segov
 ia (C/Juan Bravo 2). Podrás testarte a ti mism@ y a otros: &#8211; Creenci
 as que te fortalecen. &#8211; Alimentación que te ayuda a adelgazar o engo
 rdar. &#8211; Alergias o[..]\nhttps://www.eventosdesegovia.com/events/talle
 r-de-auto-test-kinesiologico-en-centro-corpus-2/
URL:https://www.eventosdesegovia.com/events/taller-de-auto-test-kinesiologico-en-centro-corpus-2/
END:VEVENT
END:VCALENDAR