BEGIN:VCALENDAR
VERSION:2.0
PRODID:-//eventon.com NONSGML v1.0//EN
CALSCALE:GREGORIAN
METHOD:PUBLISH
BEGIN:VEVENT
UID:69e79c5c232d7
DTSTAMP:20260421T154844Z
DTSTART:20200217T190000Z
DTEND:20200217T200000Z
LOCATION:Segovia Segovia
SUMMARY:Taller: Aprende a gestionar tus emociones – Onzas de Sabor
DESCRIPTION:Taller: Aprende a gestionar tus emociones\,  de Onzas de Sabor.
  Aprende a gestionar tus emociones con la técnica del coach; define las em
 ociones y para qué sirven. Y aprende a testadas con la kinesiología. Onza
 s de Sabor presenta una serie de talleres relacionados. El primero será pa
 ra aprender a manejar\, [..]\nhttps://www.eventosdesegovia.com/events/talle
 r-aprende-a-gestionar-tus-emociones-onzas-de-sabor/
URL:https://www.eventosdesegovia.com/events/taller-aprende-a-gestionar-tus-emociones-onzas-de-sabor/
END:VEVENT
END:VCALENDAR