BEGIN:VCALENDAR
VERSION:2.0
PRODID:-//eventon.com NONSGML v1.0//EN
CALSCALE:GREGORIAN
METHOD:PUBLISH
BEGIN:VEVENT
UID:69e7aaa17cbb0
DTSTAMP:20260421T164937Z
DTSTART:20200220T190000Z
DTEND:20200220T200000Z
LOCATION:Segovia Segovia
SUMMARY:Sesión de sonido tibetano – Duermevela Hostel
DESCRIPTION:Sesión de sonido – Duermevela Hostel Sesión de sonido compu
 esta por cuencos tibetanos\,  gongs y cuencos de cuarzo. Jueves 20 de febre
 ro\,  a las 20 horas\,  en Duermevela Hostel (Calle de los Gascos\,  7\,  4
 0003 &#8211; Segovia). Imparte: Jaime Guedán. Aportación: 10 euros. Infor
 mación y reservas: 691 282 445 (plazas[..]\nhttps://www.eventosdesegovia.c
 om/events/sesion-de-sonido-duermevela-hostel/
URL:https://www.eventosdesegovia.com/events/sesion-de-sonido-duermevela-hostel/
END:VEVENT
END:VCALENDAR