BEGIN:VCALENDAR
VERSION:2.0
PRODID:-//eventon.com NONSGML v1.0//EN
CALSCALE:GREGORIAN
METHOD:PUBLISH
BEGIN:VEVENT
UID:69e8b52bb0c27
DTSTAMP:20260422T114651Z
DTSTART:20210913
DTEND:20210914
LOCATION:Centro Social Corpus Calle Juan Bravo\,  2
SUMMARY:Exposición:  “ETIOPÍA SIGNOS DE IDENTIDAD”
DESCRIPTION:Exposición: &nbsp;“ETIOPÍA SIGNOS DE IDENTIDAD”\,  Angel 
 Gracia expone sus fotografías en el Centro Social Corpus Exposición:  
 ETIOPÍA SIGNOS DE IDENTIDAD”\,  del 13 septiembre – 14 octubre de 202
 1 Como complemento a la exposición de fotografías\,  “Etiopía\,  sign
 os de identidad”\,  que Angel Gracia Ruiz nos muestra en el Centro Social
  Corpus. El[..]\nhttps://www.eventosdesegovia.com/events/exposicion-etiopia
 -signos-de-identidad/
URL:https://www.eventosdesegovia.com/events/exposicion-etiopia-signos-de-identidad/
END:VEVENT
END:VCALENDAR