BEGIN:VCALENDAR
VERSION:2.0
PRODID:-//eventon.com NONSGML v1.0//EN
CALSCALE:GREGORIAN
METHOD:PUBLISH
BEGIN:VEVENT
UID:69e8b58c2edd3
DTSTAMP:20260422T114828Z
DTSTART:20210916T163000Z
DTEND:20210916T180000Z
LOCATION:Centro Social Corpus Calle Juan Bravo\,  2
SUMMARY:Conferencia: “Etiopía\,  un viaje al origen”
DESCRIPTION:Conferencia: “Etiopía\,  un viaje al origen”\,  de Angel G
 racia\,  16 de septiembre a las 18:30h. en el Centro Social Corpus Como com
 plemento a la exposición de fotografías\,  “Etiopía\,  signos de ident
 idad”\,  que Angel Gracia Ruiz nos muestra en el Centro Social Corpus. El
  autor impartirá la conferencia “Etiopía\,  un viaje[..]\nhttps://www.e
 ventosdesegovia.com/events/conferencia-etiopia-un-viaje-al-origen/
URL:https://www.eventosdesegovia.com/events/conferencia-etiopia-un-viaje-al-origen/
END:VEVENT
END:VCALENDAR