BEGIN:VCALENDAR
VERSION:2.0
PRODID:-//eventon.com NONSGML v1.0//EN
CALSCALE:GREGORIAN
METHOD:PUBLISH
BEGIN:VEVENT
UID:69e63548770d9
DTSTAMP:20260420T141640Z
DTSTART:20210910
DTEND:20210911
LOCATION:Segovia Segovia
SUMMARY:Exposición urbana de PhotoEspaña
DESCRIPTION:Exposición urbana de PhotoEspaña\,  hasta el 10 de octubre\, 
  en diferentes ubicaciones: el edificio de la Casa de la Lectura; la Casa d
 e Andrés Laguna\,  sede de las concejalías de Cultura\,  Turismo y Patrim
 onio Histórico; la terraza de Santa Columba y la Real Casa de Moneda. Esta
  muestra incluye las[..]\nhttps://www.eventosdesegovia.com/events/exposicio
 n-urbana-de-photoespana/
URL:https://www.eventosdesegovia.com/events/exposicion-urbana-de-photoespana/
END:VEVENT
END:VCALENDAR