BEGIN:VCALENDAR
VERSION:2.0
PRODID:-//eventon.com NONSGML v1.0//EN
CALSCALE:GREGORIAN
METHOD:PUBLISH
BEGIN:VEVENT
UID:69eb3fdbe5230
DTSTAMP:20260424T100307Z
DTSTART:20210916
DTEND:20210917
LOCATION:Segovia Segovia
SUMMARY:Semana Europea de la Movilidad
DESCRIPTION:Semana Europea de la Movilidad\,  entre el 16 y el 22 de septie
 mbre\,  se desarrollarán diferentes actividades. El lema de este año\,  &
 #8216;Por tu salud\,  muévete de forma sostenible&#8217;\,  busca abordar 
 la movilidad sostenible\,  saludable y segura\,  es decir\,  se pretende po
 ner el foco en la salud\,  tanto física como[..]\nhttps://www.eventosdeseg
 ovia.com/events/semana-europea-de-la-movilidad/
URL:https://www.eventosdesegovia.com/events/semana-europea-de-la-movilidad/
END:VEVENT
END:VCALENDAR