BEGIN:VCALENDAR
VERSION:2.0
PRODID:-//eventon.com NONSGML v1.0//EN
CALSCALE:GREGORIAN
METHOD:PUBLISH
BEGIN:VEVENT
UID:69e8b10c6c6ec
DTSTAMP:20260422T112916Z
DTSTART:20200222
DTEND:20200223
LOCATION:
SUMMARY:Jornada 22 Grupo A Regional Preferente de Aficionados
DESCRIPTION:Jornada 22 Grupo A Regional Preferente de Aficionados El día 2
 2 de Febrero se disputa la Jornada 22 Grupo A Regional Preferente de Aficio
 nados\,  con los siguientes encuentros: SÁBADO 22 FEBRERO 15:30 &#8211; C.
 D. CALASANZ DE SORIA 🆚 Palencia CF 16:00 &#8211; CD Internacional Vista 
 Alegre 🆚 S.C. Uxama 16:00[..]\nhttps://www.eventosdesegovia.com/events/j
 ornada-22-grupo-a-regional-preferente-de-aficionados/
URL:https://www.eventosdesegovia.com/events/jornada-22-grupo-a-regional-preferente-de-aficionados/
END:VEVENT
END:VCALENDAR