BEGIN:VCALENDAR
VERSION:2.0
PRODID:-//eventon.com NONSGML v1.0//EN
CALSCALE:GREGORIAN
METHOD:PUBLISH
BEGIN:VEVENT
UID:69e8b27ae3ec8
DTSTAMP:20260422T113522Z
DTSTART:20211010T170000Z
DTEND:20211010T190000Z
LOCATION:Carbonero el Mayor Carbonero el Mayor
SUMMARY:Antología de la Zarzuela en Carbonero el Mayor
DESCRIPTION:Antología de la Zarzuela en Carbonero el Mayor\,  el Domingo 1
 0 de Octubre de 2021 a las 19:00 en el Centro Cultural Los Caños de Carbon
 ero el Mayor. Con las Sopranos Inmaculada Laín\,  Camila Oria y el Tenor\,
   Rodolfo Albero\,  al Piano\,  Aylin Pla.\nhttps://www.eventosdesegovia.co
 m/events/antologia-de-la-zarzuela-en-carbonero-el-mayor/
URL:https://www.eventosdesegovia.com/events/antologia-de-la-zarzuela-en-carbonero-el-mayor/
END:VEVENT
END:VCALENDAR