BEGIN:VCALENDAR
VERSION:2.0
PRODID:-//eventon.com NONSGML v1.0//EN
CALSCALE:GREGORIAN
METHOD:PUBLISH
BEGIN:VEVENT
UID:69e8a079c49f4
DTSTAMP:20260422T101833Z
DTSTART:20211010
DTEND:20211011
LOCATION:Cantalejo Cantalejo
SUMMARY:Media maratón en Cantalejo
DESCRIPTION:Media maratón en Cantalejo Cantalejo celebra el próximo domin
 go 10 de octubre su media maratón\,  que no obstante este año no contará
  con carreras para niños con el fin de cumplir los protocolos sanitarios m
 arcados por la pandemia. Sí que habrá una prueba de diez kilómetros\,  q
 ue dará comienzo a[..]\nhttps://www.eventosdesegovia.com/events/media-mara
 ton-en-cantalejo/
URL:https://www.eventosdesegovia.com/events/media-maraton-en-cantalejo/
END:VEVENT
END:VCALENDAR