BEGIN:VCALENDAR
VERSION:2.0
PRODID:-//eventon.com NONSGML v1.0//EN
CALSCALE:GREGORIAN
METHOD:PUBLISH
BEGIN:VEVENT
UID:69eb29c541bdc
DTSTAMP:20260424T082853Z
DTSTART:20200222T173000Z
DTEND:20200222T225900Z
LOCATION:Martín Muñoz de las Posadas Martín Muñoz de las Posadas
SUMMARY:Carnaval 2020 en Martín Muñoz de las Posadas
DESCRIPTION:Carnaval 2020 en Martín Muñoz de las Posadas El día 22 de Fe
 brero de 2020\,  Carnaval 2020 en Martín Muñoz de las Posadas\,  con Bail
 e a las 18:30\,   y a las 00:00 Gran concurso de Disfraces. amenizado por 
 la orquesta Atabal. &nbsp;\nhttps://www.eventosdesegovia.com/events/carnava
 l-2020-en-martin-munoz-de-las-posadas/
URL:https://www.eventosdesegovia.com/events/carnaval-2020-en-martin-munoz-de-las-posadas/
END:VEVENT
END:VCALENDAR