BEGIN:VCALENDAR
VERSION:2.0
PRODID:-//eventon.com NONSGML v1.0//EN
CALSCALE:GREGORIAN
METHOD:PUBLISH
BEGIN:VEVENT
UID:69e7a5f44a47c
DTSTAMP:20260421T162940Z
DTSTART:20200201
DTEND:20200202
LOCATION:Biblioteca Pública de Segovia Calle los Procuradores de la Tierra\,  6
SUMMARY:Programa de actividades en la Biblioteca Pública de Segovia - Febrero 2020
DESCRIPTION:Programa de actividades en la Biblioteca Pública de Segovia &#
 8211; Febrero 2020 Sábado 1\, 12h\, Cine infantil ‘Cómo entrenar a tu d
 ragón 3’. Entrada libre Miércoles 5\, 10\, 30h\, Proyecto ‘Bebés de 
 cuento’ ¡Qué bien cuando me leen!\,  con Carmen Talavera. Para bebés d
 e 0 a 36 meses. Inscripción previa Miércoles 5\, 19\, 30h\, Ciclo tallere
 s Conócete a[..]\nhttps://www.eventosdesegovia.com/events/programa-de-acti
 vidades-en-la-biblioteca-publica-de-segovia-febrero-2020/
URL:https://www.eventosdesegovia.com/events/programa-de-actividades-en-la-biblioteca-publica-de-segovia-febrero-2020/
END:VEVENT
END:VCALENDAR