BEGIN:VCALENDAR
VERSION:2.0
PRODID:-//eventon.com NONSGML v1.0//EN
CALSCALE:GREGORIAN
METHOD:PUBLISH
BEGIN:VEVENT
UID:69e887490fff3
DTSTAMP:20260422T083105Z
DTSTART:20211009T090000Z
DTEND:20211009T110000Z
LOCATION:Valverde del Majano Valverde del Majano
SUMMARY:Animación a la Lectura en Valverde del Majano
DESCRIPTION:Animación a la Lectura en Valverde del Majano\,  taller de Let
 tering y Caligrafía\,  el 9 de Octubre de 2021 a las 11:00 para niños de 
 8 a 12 años.\nhttps://www.eventosdesegovia.com/events/animacion-a-la-lectu
 ra-en-valverde-del-majano/
URL:https://www.eventosdesegovia.com/events/animacion-a-la-lectura-en-valverde-del-majano/
END:VEVENT
END:VCALENDAR