BEGIN:VCALENDAR
VERSION:2.0
PRODID:-//eventon.com NONSGML v1.0//EN
CALSCALE:GREGORIAN
METHOD:PUBLISH
BEGIN:VEVENT
UID:69eb3f0d2087a
DTSTAMP:20260424T095941Z
DTSTART:20211008
DTEND:20211009
LOCATION:Corral de Ayllón Corral de Ayllón
SUMMARY:Fiestas del Rosario en Corral de Ayllón 2021
DESCRIPTION:Fiestas del Rosario en Corral de Ayllón 2021\,  desde el Viern
 es 8 de Octubre\,  hasta el Domingo 10 de Octubre!!\nhttps://www.eventosdes
 egovia.com/events/fiestas-del-rosario-en-corral-de-ayllon-2021/
URL:https://www.eventosdesegovia.com/events/fiestas-del-rosario-en-corral-de-ayllon-2021/
END:VEVENT
END:VCALENDAR