BEGIN:VCALENDAR
VERSION:2.0
PRODID:-//eventon.com NONSGML v1.0//EN
CALSCALE:GREGORIAN
METHOD:PUBLISH
BEGIN:VEVENT
UID:69e89f97adc06
DTSTAMP:20260422T101447Z
DTSTART:20200222T170000Z
DTEND:20200222T190000Z
LOCATION:Boceguillas Boceguillas
SUMMARY:Cine Comarcal - CapitÃ¡n Calzoncillos - Boceguillas
DESCRIPTION:Cine Comarcal &#8211; CapitÃ¡n Calzoncillos &#8211; Boceguillas
  El 22 de Febrero de 2020 a las 18:00 en Boceguillas\,  se proyecta la pelÃ
 ­cula Â«Capital CalzoncillosÂ»\,  recomendada para todos los pÃºblicos. &nb
 sp;\nhttps://www.eventosdesegovia.com/events/cine-comarcal-capitan-calzonci
 llos-boceguillas/
URL:https://www.eventosdesegovia.com/events/cine-comarcal-capitan-calzoncillos-boceguillas/
END:VEVENT
END:VCALENDAR