BEGIN:VCALENDAR
VERSION:2.0
PRODID:-//eventon.com NONSGML v1.0//EN
CALSCALE:GREGORIAN
METHOD:PUBLISH
BEGIN:VEVENT
UID:69e89c15021a9
DTSTAMP:20260422T095949Z
DTSTART:20211010T083000Z
DTEND:20211010T113000Z
LOCATION:Pradena Pradena
SUMMARY:Ruta de Senderismo al Acebal de Prádena
DESCRIPTION:Ruta de Senderismo al Acebal de Prádena\,  los Domingos a las 
 10:30 A.M\,  con una duración aproximada de 3 horas\,  dificultad facil\, 
  recomendada a partir de 6 años\,  llevar calzado y ropa adecuada\,  agua 
 y protección solar. Tarifas: 2 Euros\,  jubilados 1 euros\,  niños menos 
 de 12 años Gratis. Fuente:[..]\nhttps://www.eventosdesegovia.com/events/ru
 ta-de-senderismo-al-acebal-de-pradena/
URL:https://www.eventosdesegovia.com/events/ruta-de-senderismo-al-acebal-de-pradena/
END:VEVENT
END:VCALENDAR