BEGIN:VCALENDAR
VERSION:2.0
PRODID:-//eventon.com NONSGML v1.0//EN
CALSCALE:GREGORIAN
METHOD:PUBLISH
BEGIN:VEVENT
UID:69e8a06ac289d
DTSTAMP:20260422T101818Z
DTSTART:20211008T170000Z
DTEND:20211008T180000Z
LOCATION:Biblioteca Pública de Segovia Calle los Procuradores de la Tierra\,  6
SUMMARY:ANA ROSSETTI y SILVIA REGUERA
DESCRIPTION:ANA ROSSETTI y SILVIA REGUERA\,  el 8 de octubre de 2021 a las 
 19:00 en la Biblioteca de Segovia. DESCRIPCIÓN: Cita anual con la mejor po
 esía escénica en español . Inauguramos&nbsp;Escenario Bailar el Verso&nb
 sp;que pondrá en diálogo creativo dos disciplinas artísticas tan distint
 as como complementarias\,  la poesía y la danza.[..]\nhttps://www.eventosd
 esegovia.com/events/ana-rossetti-y-silvia-reguera/
URL:https://www.eventosdesegovia.com/events/ana-rossetti-y-silvia-reguera/
END:VEVENT
END:VCALENDAR