BEGIN:VCALENDAR
VERSION:2.0
PRODID:-//eventon.com NONSGML v1.0//EN
CALSCALE:GREGORIAN
METHOD:PUBLISH
BEGIN:VEVENT
UID:69eb2b8d8ddd6
DTSTAMP:20260424T083629Z
DTSTART:20211009T090000Z
DTEND:20211008T220000Z
LOCATION:Biblioteca Pública de Segovia Calle los Procuradores de la Tierra\,  6
SUMMARY:TALLER DE ARTES ESCÉNICAS INFANTIL
DESCRIPTION:TALLER DE ARTES ESCÉNICAS INFANTIL \,  el 9 de octubre de 2021
  a las 11:00 en la Biblioteca de Segovia. DESCRIPCIÓN: Taller infantil de 
 artes escénicas\,  enmarcado en Cultura Diversa. Asistentes entre 7 y 12 a
 ños. Los sábados\,  desde el 9 de octubre al 18 de diciembre\,  a las 11.
 00[..]\nhttps://www.eventosdesegovia.com/events/taller-de-artes-escenicas-i
 nfantil/
URL:https://www.eventosdesegovia.com/events/taller-de-artes-escenicas-infantil/
END:VEVENT
END:VCALENDAR