BEGIN:VCALENDAR
VERSION:2.0
PRODID:-//eventon.com NONSGML v1.0//EN
CALSCALE:GREGORIAN
METHOD:PUBLISH
BEGIN:VEVENT
UID:69e893d5b505f
DTSTAMP:20260422T092437Z
DTSTART:20211008T220000Z
DTEND:20211009T120000Z
LOCATION:Biblioteca Pública de Segovia Calle los Procuradores de la Tierra\,  6
SUMMARY:TALLER DE APROXIMACIÓN A LA POESÍA "AL PRINCIPIO ERA EL VERSO"
DESCRIPTION:TALLER DE APROXIMACIÓN A LA POESÍA «AL PRINCIPIO ERA EL VERS
 O»\,  los días\,  2\,  9\,  16 y 30 de Octubre de 2021 a las 12:00 en la 
 biblioteca de Segovia. Javier Fonseca imparte este taller de escritura crea
 tiva Cuatro sesiones en las que trabajaremos los conceptos y herramientas b
 ásicas para[..]\nhttps://www.eventosdesegovia.com/events/taller-de-aproxim
 acion-a-la-poesia-al-principio-era-el-verso/
URL:https://www.eventosdesegovia.com/events/taller-de-aproximacion-a-la-poesia-al-principio-era-el-verso/
END:VEVENT
END:VCALENDAR