BEGIN:VCALENDAR
VERSION:2.0
PRODID:-//eventon.com NONSGML v1.0//EN
CALSCALE:GREGORIAN
METHOD:PUBLISH
BEGIN:VEVENT
UID:69e88e7fa5b1e
DTSTAMP:20260422T090151Z
DTSTART:20211011T160000Z
DTEND:20211011T180000Z
LOCATION:Biblioteca Pública de Segovia Calle los Procuradores de la Tierra\,  6
SUMMARY:MERCEDES QUIERE SER BOMBERA
DESCRIPTION:MERCEDES QUIERE SER BOMBERA\,  el 11 de octubre de 2021 a las 1
 8:00 en la Biblioteca de Segovia. DESCRIPCIÓN: Mercedes quiere ser bombera
 &nbsp;es un espectáculo de teatro familiar-infantil\,  basado en libros de
  infantiles contemporáneos que transmite Educación en Valores y en Iguald
 ad. Raúl es un ama de casa\,  y para[..]\nhttps://www.eventosdesegovia.com
 /events/mercedes-quiere-ser-bombera/
URL:https://www.eventosdesegovia.com/events/mercedes-quiere-ser-bombera/
END:VEVENT
END:VCALENDAR