BEGIN:VCALENDAR
VERSION:2.0
PRODID:-//eventon.com NONSGML v1.0//EN
CALSCALE:GREGORIAN
METHOD:PUBLISH
BEGIN:VEVENT
UID:69e89c0aacb79
DTSTAMP:20260422T095938Z
DTSTART:20211007
DTEND:20211008
LOCATION:Universidad de Valladolid. Campus de Segovia Plaza de la Universidad\,  1\,  40005 Segovia
SUMMARY:Exposición Escombrarte
DESCRIPTION:Exposición Escombrarte\,  X Edición del Concurso Internaciona
 l de Escultura con Materiales reciclados procedentes de la construcción\, 
  del 7 de Octubre de 2021 al 4 de Noviembre de 2021 en el Campus María Zam
 brano de Segovia\,  de lunes a viernes de 8 de la mañana a 20:45.\nhttps:/
 /www.eventosdesegovia.com/events/exposicion-escombrarte/
URL:https://www.eventosdesegovia.com/events/exposicion-escombrarte/
END:VEVENT
END:VCALENDAR