BEGIN:VCALENDAR
VERSION:2.0
PRODID:-//eventon.com NONSGML v1.0//EN
CALSCALE:GREGORIAN
METHOD:PUBLISH
BEGIN:VEVENT
UID:69e89c145644a
DTSTAMP:20260422T095948Z
DTSTART:20211011
DTEND:20211012
LOCATION:Segovia Segovia
SUMMARY:Semana del Caballo de Pura Raza Española
DESCRIPTION:Semana del Caballo de Pura Raza Española\,  del 11 al 17 de oc
 tubre\,  en el Centro Ecuestre de Castilla y León. El Centro Ecuestre de C
 astilla y León – ubicado en el Centro Integrado de Formación Profesiona
 l de Segovia- será marco de la Semana del Caballo PRE (Pura Raza Española
 )[..]\nhttps://www.eventosdesegovia.com/events/semana-del-caballo-de-pura-r
 aza-espanola/
URL:https://www.eventosdesegovia.com/events/semana-del-caballo-de-pura-raza-espanola/
END:VEVENT
END:VCALENDAR