BEGIN:VCALENDAR
VERSION:2.0
PRODID:-//eventon.com NONSGML v1.0//EN
CALSCALE:GREGORIAN
METHOD:PUBLISH
BEGIN:VEVENT
UID:69e8a04c2f6cb
DTSTAMP:20260422T101748Z
DTSTART:20200222T163000Z
DTEND:20200222T183000Z
LOCATION:Turégano Turégano
SUMMARY:Fútbol - J22 Grupo A Regional Preferente | Turégano CF - CF Briviesca
DESCRIPTION:Fútbol &#8211; J22 Grupo A Regional Preferente | Turégano CF 
 &#8211; CF Briviesca El día 22 de Febrero a las 17:00\,  Partido correspon
 diente a la Jornada 22 Grupo A Regional Preferente de Aficionados entre el 
 Turégano CF y el C.F. Briviesca Norpetrol &nbsp;\nhttps://www.eventosdeseg
 ovia.com/events/futbol-j22-grupo-a-regional-preferente-turegano-cf-cf-brivi
 esca/
URL:https://www.eventosdesegovia.com/events/futbol-j22-grupo-a-regional-preferente-turegano-cf-cf-briviesca/
END:VEVENT
END:VCALENDAR