BEGIN:VCALENDAR
VERSION:2.0
PRODID:-//eventon.com NONSGML v1.0//EN
CALSCALE:GREGORIAN
METHOD:PUBLISH
BEGIN:VEVENT
UID:69e8a0434ae77
DTSTAMP:20260422T101739Z
DTSTART:20200222
DTEND:20200223
LOCATION:Boceguillas Boceguillas
SUMMARY:Carnaval 2020 en Boceguillas
DESCRIPTION:Carnaval 2020 en Boceguillas El sábado 22 y el martes 25 de Fe
 brero de 2020 en Boceguillas\,  Carnaval 2020. El Sábado\,  Cine Comarcal 
 y Fiesta de Carnaval y el Martes\,  Desfile de Carnaval\,  encierros infant
 iles y piñata y chocolatada!! &nbsp; &nbsp;\nhttps://www.eventosdesegovia.
 com/events/carnaval-2020-en-boceguillas/
URL:https://www.eventosdesegovia.com/events/carnaval-2020-en-boceguillas/
END:VEVENT
END:VCALENDAR