BEGIN:VCALENDAR
VERSION:2.0
PRODID:-//eventon.com NONSGML v1.0//EN
CALSCALE:GREGORIAN
METHOD:PUBLISH
BEGIN:VEVENT
UID:69eb3fb254524
DTSTAMP:20260424T100226Z
DTSTART:20200222T170000Z
DTEND:20200222T183000Z
LOCATION:Centro Comercial Luz de Castilla Polígono Industrial el Cerro
SUMMARY:Carnaval 2020 en Luz de Castilla
DESCRIPTION:Carnaval 2020 en Luz de Castilla Centro Comercial. Ven y disfru
 ta del Carnaval en la PRIMERA PLANTA  el Sábado 22 de Febrero\,  de 18:00
  a 19:30 h\,  con el espectáculo musical Pízcara en Carnaval Un espectác
 ulo con baile\,  música\,  sorpresas… ¡Ven disfrazado y llévale un reg
 alo!\nhttps://www.eventosdesegovia.com/events/carnaval-2020-en-luz-de-casti
 lla/
URL:https://www.eventosdesegovia.com/events/carnaval-2020-en-luz-de-castilla/
END:VEVENT
END:VCALENDAR