BEGIN:VCALENDAR
VERSION:2.0
PRODID:-//eventon.com NONSGML v1.0//EN
CALSCALE:GREGORIAN
METHOD:PUBLISH
BEGIN:VEVENT
UID:69e4cfa7b7039
DTSTAMP:20260419T125047Z
DTSTART:20211105
DTEND:20211106
LOCATION:Segovia Segovia
SUMMARY:XII Otoño Enológico
DESCRIPTION:¡Vuelve el XII Otoño Enológico de la Fundación Caja Rural!D
 el 5 al 26 de noviembre\,  disfruta de los 20 eventos que han organizado.Es
 te viernes\,  29 de octubre\,  se pondrán a la venta las entradas en www.f
 undacioncajaruraldesegovia.es\nhttps://www.eventosdesegovia.com/events/xii-
 otono-enologico/
URL:https://www.eventosdesegovia.com/events/xii-otono-enologico/
END:VEVENT
END:VCALENDAR