BEGIN:VCALENDAR
VERSION:2.0
PRODID:-//eventon.com NONSGML v1.0//EN
CALSCALE:GREGORIAN
METHOD:PUBLISH
BEGIN:VEVENT
UID:69e78a40b0658
DTSTAMP:20260421T143128Z
DTSTART:20211101
DTEND:20211102
LOCATION:Biblioteca Pública de Segovia Calle los Procuradores de la Tierra\,  6
SUMMARY:Actividades en la Biblioteca de Segovia - Noviembre 2021
DESCRIPTION:Actividades en la Biblioteca de Segovia &#8211; Noviembre 2021 
 La Biblioteca Pública de Segovia centra su programación cultural del mes 
 de noviembre en el público infantil. El centro dependiente de la Junta de 
 Castilla y León&nbsp;también organiza actividades y conciertos dirigidos 
 a los adultos segovianos.&nbsp;Debido a la mejora de la[..]\nhttps://www.ev
 entosdesegovia.com/events/actividades-en-la-biblioteca-de-segovia-noviembre
 -2021/
URL:https://www.eventosdesegovia.com/events/actividades-en-la-biblioteca-de-segovia-noviembre-2021/
END:VEVENT
END:VCALENDAR