BEGIN:VCALENDAR
VERSION:2.0
PRODID:-//eventon.com NONSGML v1.0//EN
CALSCALE:GREGORIAN
METHOD:PUBLISH
BEGIN:VEVENT
UID:69e762bb2651f
DTSTAMP:20260421T114251Z
DTSTART:20211101
DTEND:20211102
LOCATION:Biblioteca Pública de Segovia Calle los Procuradores de la Tierra\,  6
SUMMARY:Actividades infantiles en la Biblioteca de Segovia - Noviembre 2021
DESCRIPTION:Actividades infantiles en la Biblioteca de Segovia &#8211; Novi
 embre 2021 La Biblioteca Pública de Segovia dedica buena parte de su progr
 amación cultural del mes de noviembre al público infantil\,  aunque tambi
 én cuenta con actividades y conciertos para los adultos. Gracias a la mejo
 ra de la situación epidemiológica\,  además\,  las actividades[..]\nhttp
 s://www.eventosdesegovia.com/events/actividades-infantiles-en-la-biblioteca
 -de-segovia-noviembre-2021/
URL:https://www.eventosdesegovia.com/events/actividades-infantiles-en-la-biblioteca-de-segovia-noviembre-2021/
END:VEVENT
END:VCALENDAR