BEGIN:VCALENDAR
VERSION:2.0
PRODID:-//eventon.com NONSGML v1.0//EN
CALSCALE:GREGORIAN
METHOD:PUBLISH
BEGIN:VEVENT
UID:69e7a5f2f1179
DTSTAMP:20260421T162938Z
DTSTART:20211107T180000Z
DTEND:20211107T190000Z
LOCATION:Santiuste de San Juan Bautista Santiuste de San Juan Bautista
SUMMARY:Con-trastes en Santiuste de San Juan Bautista
DESCRIPTION:Con-trastes en Santiuste de San Juan Bautista dentro del ciclo 
 Otoño con Pulso\,  el 7 de Noviembre a la 19:00 en el centro cívico de la
  localidad.\nhttps://www.eventosdesegovia.com/events/con-trastes-en-santius
 te-de-san-juan-bautista/
URL:https://www.eventosdesegovia.com/events/con-trastes-en-santiuste-de-san-juan-bautista/
END:VEVENT
END:VCALENDAR