BEGIN:VCALENDAR
VERSION:2.0
PRODID:-//eventon.com NONSGML v1.0//EN
CALSCALE:GREGORIAN
METHOD:PUBLISH
BEGIN:VEVENT
UID:69e633481461b
DTSTAMP:20260420T140808Z
DTSTART:20200222T090000Z
DTEND:20200222T200000Z
LOCATION:Laura Segovia Flamenco. Espectáculos y Formación Calle Alamillo\,  10\,  40001 Segovia
SUMMARY:Primer Danzathon Segoviano
DESCRIPTION:Primer Danzathon Segoviano Apúntate al Primer Danzathon Segovi
 ano\,  el Sábado 22 de Febrero de 2020\,  a Beneficio de la Fundación Ana
 r. Programa de Día completo con posibilidad de apuntarse a uno o varios ta
 lleres\,  toda la información la puedes ver en el cartel!!! &nbsp;\nhttps:
 //www.eventosdesegovia.com/events/primer-danzathon-segoviano/
URL:https://www.eventosdesegovia.com/events/primer-danzathon-segoviano/
END:VEVENT
END:VCALENDAR