BEGIN:VCALENDAR
VERSION:2.0
PRODID:-//eventon.com NONSGML v1.0//EN
CALSCALE:GREGORIAN
METHOD:PUBLISH
BEGIN:VEVENT
UID:69e7bd9c71e6e
DTSTAMP:20260421T181036Z
DTSTART:20200228T190000Z
DTEND:20200228T200000Z
LOCATION:Real Academia De Historia Y Arte De San Quirce Calle Capuchinos Alta\,  4\,  40003 Segovia
SUMMARY:Conferencia: La dulzaina. Renacimiento y recuperación - XLI Curso de Historia de Segovia
DESCRIPTION:La dulzaina. Renacimiento y recuperación. Las Escuelas en Sego
 via &#8211; XLI CURSO DE HISTORIA DE SEGOVIA CULTURA TRADICIONAL (I): DANZA
 \,  MÚSICA\,  ROMANCERO Y TRADICIÓN ORAL FEBRERO &#8211; MARZO 2020 Viern
 es 28 de febrero Lorenzo Sancho Sanz. «La dulzaina. Renacimiento y recuper
 ación. Las Escuelas en Segovia». Todos los viernes desde el[..]\nhttps://
 www.eventosdesegovia.com/events/conferencia-la-dulzaina-renacimiento-y-recu
 peracion-xli-curso-de-historia-de-segovia/
URL:https://www.eventosdesegovia.com/events/conferencia-la-dulzaina-renacimiento-y-recuperacion-xli-curso-de-historia-de-segovia/
END:VEVENT
END:VCALENDAR