BEGIN:VCALENDAR
VERSION:2.0
PRODID:-//eventon.com NONSGML v1.0//EN
CALSCALE:GREGORIAN
METHOD:PUBLISH
BEGIN:VEVENT
UID:69eb3f7f8c652
DTSTAMP:20260424T100135Z
DTSTART:20200221T203000Z
DTEND:20200221T220000Z
LOCATION:Metrópolis Segovia Calle Los coches
SUMMARY:Concierto de Desfase Rural en Metrópolis
DESCRIPTION:Concierto de Desfase Rural en Metrópolis (Calle de los Coches\
 ,  5). Viernes\,  21 de febrero\,  de 21:30 h. Entrada libre. DESFASE RURAL
  es un grupo de música con potente punk rock en directo que dio comienzos
  a primeros de 2017. Unos chavales del entorno rural y autodidactas\,  de l
 a provincia de[..]\nhttps://www.eventosdesegovia.com/events/concierto-de-de
 sfase-rural-en-metropolis/
URL:https://www.eventosdesegovia.com/events/concierto-de-desfase-rural-en-metropolis/
END:VEVENT
END:VCALENDAR