BEGIN:VCALENDAR
VERSION:2.0
PRODID:-//eventon.com NONSGML v1.0//EN
CALSCALE:GREGORIAN
METHOD:PUBLISH
BEGIN:VEVENT
UID:69e8b108982c5
DTSTAMP:20260422T112912Z
DTSTART:20200222T120000Z
DTEND:20200222T220000Z
LOCATION:Segovia Segovia
SUMMARY:Fiesta de Carnaval 2020 en San Lorenzo
DESCRIPTION:Fiesta de Carnaval 2020 en San Lorenzo El 22 de Febrero de 2020
 \,  Fiesta de Carnaval de las Asociación de Peñas Barrio de San Lorenzo. 
 Desde las 13:00 podrás beber\,  comer\,  picotear.. y pasártelo en grande
  en el barrio segoviano!!! &nbsp;\nhttps://www.eventosdesegovia.com/events/
 fiesta-de-carnaval-2020-en-san-lorenzo/
URL:https://www.eventosdesegovia.com/events/fiesta-de-carnaval-2020-en-san-lorenzo/
END:VEVENT
END:VCALENDAR