BEGIN:VCALENDAR
VERSION:2.0
PRODID:-//eventon.com NONSGML v1.0//EN
CALSCALE:GREGORIAN
METHOD:PUBLISH
BEGIN:VEVENT
UID:69e7a5eb1e41e
DTSTAMP:20260421T162931Z
DTSTART:20200220T190000Z
DTEND:20200220T200000Z
LOCATION:Intempestivos LibrerÃ­a CafÃ© Calle Teodosio el Grande\,  10\,  40001 Segovia
SUMMARY:PresentaciÃ³n de la adaptaciÃ³n al cÃ³mic de "FariÃ±a" en Segovia
DESCRIPTION:PresentaciÃ³n de la adaptaciÃ³n al cÃ³mic de Â«FariÃ±aÂ» en Seg
 ovia. LA CONSPIRACIÃ“N DE LA PÃ“LVORA TEMPORADA 5 / EPISODIO 11 El dibujant
 e Luis Bustos presenta el jueves\,  20 de febrero\,  el cÃ³mic â€˜FariÃ±aâ€
 ™ en Intempestivos a las 20.00 horas. El autor llega a Segovia en ruta por 
 las librerÃ­as de[..]\nhttps://www.eventosdesegovia.com/events/presentacion
 -de-la-adaptacion-al-comic-de-farina-en-segovia/
URL:https://www.eventosdesegovia.com/events/presentacion-de-la-adaptacion-al-comic-de-farina-en-segovia/
END:VEVENT
END:VCALENDAR