BEGIN:VCALENDAR
VERSION:2.0
PRODID:-//eventon.com NONSGML v1.0//EN
CALSCALE:GREGORIAN
METHOD:PUBLISH
BEGIN:VEVENT
UID:69e89c11d9acb
DTSTAMP:20260422T095945Z
DTSTART:20200228T180000Z
DTEND:20200228T200000Z
LOCATION:Segovia Segovia
SUMMARY:Taller principiante cuencos Tibetanos en Segovia
DESCRIPTION:Taller principiante cuencos Tibetanos en Segovia. Este mes Encu
 entra-te ofrece un taller para aprender a tocar y conocer los beneficios de
  los cuencos tibetanos. 🎶💆🏻‍♀️💆🏻 Fecha: 28/02/2020 (vi
 ernes)\,  de 15:00 a 21:00H. Lugar: Encuentra-te  (Calle de Jose Zorrilla\
 ,  31\,  2ºA\,  Segovia). Aportación: 25 €. Y 10€ de descuento si qui
 eres[..]\nhttps://www.eventosdesegovia.com/events/taller-principiante-cuenc
 os-tibetanos-en-segovia/
URL:https://www.eventosdesegovia.com/events/taller-principiante-cuencos-tibetanos-en-segovia/
END:VEVENT
END:VCALENDAR