BEGIN:VCALENDAR
VERSION:2.0
PRODID:-//eventon.com NONSGML v1.0//EN
CALSCALE:GREGORIAN
METHOD:PUBLISH
BEGIN:VEVENT
UID:69e7a5f6d11b8
DTSTAMP:20260421T162942Z
DTSTART:20200227T163000Z
DTEND:20200227T180000Z
LOCATION:Segovia Segovia
SUMMARY:Taller vivencial “El poder de la Escucha” en Centro Corpus
DESCRIPTION:Taller vivencial “El poder de la Escucha”. Fecha: Jueves 27
  febrero 2020\,  de 17:30 a 19h\,  en Centro Social Corpus. Facilita: Elena
  Ruano\,  terapeuta psicocorporal. Contribución: 12 euros. Inscripción: 
 Centro Social Corpus (C. Juan Bravo\,  2) 921466398 — gvelasco@fundacionc
 ajaegovia.es Más información: Fundación Caja Segovia.\nhttps://www.event
 osdesegovia.com/events/taller-vivencial-el-poder-de-la-escucha-en-centro-co
 rpus/
URL:https://www.eventosdesegovia.com/events/taller-vivencial-el-poder-de-la-escucha-en-centro-corpus/
END:VEVENT
END:VCALENDAR