BEGIN:VCALENDAR
VERSION:2.0
PRODID:-//eventon.com NONSGML v1.0//EN
CALSCALE:GREGORIAN
METHOD:PUBLISH
BEGIN:VEVENT
UID:69e89c0caccdf
DTSTAMP:20260422T095940Z
DTSTART:20200222T170000Z
DTEND:20200222T180000Z
LOCATION:Segovia Segovia
SUMMARY:Charla-coloquio sobre casas de apuestas en San Lorenzo
DESCRIPTION:Charla-coloquio sobre casas de apuestas en San Lorenzo. Ponente
 s: Juan Carlos Gallego (ludópata) y Eva Peinado (familiar). Asociación pa
 ra la prevención y ayuda al ludópata. El próximo 22 de febrero\,  a las 
 18:00 horas\,  en el Auditorio Diego Fernández (Calle Anselmo Carretero\, 
  1\,  Segovia). Acto 👩‍🏫: Charla coloquio con ponentes[..]\nhttps:/
 /www.eventosdesegovia.com/events/charla-coloquio-sobre-casas-de-apuestas-en
 -san-lorenzo/
URL:https://www.eventosdesegovia.com/events/charla-coloquio-sobre-casas-de-apuestas-en-san-lorenzo/
END:VEVENT
END:VCALENDAR