BEGIN:VCALENDAR
VERSION:2.0
PRODID:-//eventon.com NONSGML v1.0//EN
CALSCALE:GREGORIAN
METHOD:PUBLISH
BEGIN:VEVENT
UID:69e73a8e2c242
DTSTAMP:20260421T085126Z
DTSTART:20211204
DTEND:20211205
LOCATION:Real Sitio de San Ildefonso Real Sitio de San Ildefonso
SUMMARY:Concurso de escaparates navideños en La Granja
DESCRIPTION:Concurso de escaparates navideños en La Granja El Real Sitio q
 uiere dar la bienvenida a la Navidad y lo hará con un concurso de escapara
 tes navideños\,  que se celebrará el próximo puente festivo\,  del 4 al 
 8 de diciembre. Se ha pensado en este evento\,  sobre todo para el disfrute
 [..]\nhttps://www.eventosdesegovia.com/events/concurso-de-escaparates-navid
 enos-en-la-granja/
URL:https://www.eventosdesegovia.com/events/concurso-de-escaparates-navidenos-en-la-granja/
END:VEVENT
END:VCALENDAR