BEGIN:VCALENDAR
VERSION:2.0
PRODID:-//eventon.com NONSGML v1.0//EN
CALSCALE:GREGORIAN
METHOD:PUBLISH
BEGIN:VEVENT
UID:69e5f26eb2961
DTSTAMP:20260420T093126Z
DTSTART:20200222
DTEND:20200223
LOCATION:Real Sitio de San Ildefonso Real Sitio de San Ildefonso
SUMMARY:Carnaval 2020 en en el Real Sitio de San Ildefonso y Valsain
DESCRIPTION:Carnaval 2020 en en el Real Sitio de San Ildefonso y Valsain El
  Carnaval en el Real Sitio de San Ildefonso se celebra los días 22\,  24\,
   25 y 26 de febrero. Sábado\,  22 de febrero 11:00 h. Mitología al serv
 icio del arte. Lugar de encuentro “Medio Punto”. Precio 5 €[..]\nhttp
 s://www.eventosdesegovia.com/events/carnaval-2020-en-en-el-real-sitio-de-sa
 n-ildefonso-y-valsain/
URL:https://www.eventosdesegovia.com/events/carnaval-2020-en-en-el-real-sitio-de-san-ildefonso-y-valsain/
END:VEVENT
END:VCALENDAR