BEGIN:VCALENDAR
VERSION:2.0
PRODID:-//eventon.com NONSGML v1.0//EN
CALSCALE:GREGORIAN
METHOD:PUBLISH
BEGIN:VEVENT
UID:69e88a5b4307f
DTSTAMP:20260422T084411Z
DTSTART:20211204T190000Z
DTEND:20211204T210000Z
LOCATION:Coca Coca
SUMMARY:Cómicos o algo así en Coca
DESCRIPTION:Cómicos o algo así en Coca\,  el 4 de diciembre de 2021 a las
  20:00 en el Auditorio Comarcal Martín Frías. Compañía: Lescomic teatr
 o. Espectáculo: Cómicos de la historia. Día: 4 de diciembre de 2021. H
 ora: 20:00 horas. Lugar: Auditorio Comarcal Martín Frías de Coca. Un sh
 ow que te sorprenderá y te hará reír a[..]\nhttps://www.eventosdesegovia
 .com/events/comicos-o-algo-asi-en-coca/
URL:https://www.eventosdesegovia.com/events/comicos-o-algo-asi-en-coca/
END:VEVENT
END:VCALENDAR