BEGIN:VCALENDAR
VERSION:2.0
PRODID:-//eventon.com NONSGML v1.0//EN
CALSCALE:GREGORIAN
METHOD:PUBLISH
BEGIN:VEVENT
UID:69e74e8c42e79
DTSTAMP:20260421T101644Z
DTSTART:20211203T230000Z
DTEND:20211204T120000Z
LOCATION:Aguilafuente
SUMMARY:Presentación del Libro La Función Aguilafuente y Daniel Zuloaga
DESCRIPTION:Presentación del Libro La Función Aguilafuente y Daniel Zuloa
 ga\,  el 4 de Diciembre de 2021 a las 12 en el Ayuntamiento de Aguilafuente
 .\nhttps://www.eventosdesegovia.com/events/presentacion-del-libro-la-funcio
 n-aguilafuente-y-daniel-zuloaga/
URL:https://www.eventosdesegovia.com/events/presentacion-del-libro-la-funcion-aguilafuente-y-daniel-zuloaga/
END:VEVENT
END:VCALENDAR