BEGIN:VCALENDAR
VERSION:2.0
PRODID:-//eventon.com NONSGML v1.0//EN
CALSCALE:GREGORIAN
METHOD:PUBLISH
BEGIN:VEVENT
UID:69e7a2391b7c1
DTSTAMP:20260421T161345Z
DTSTART:20200118
DTEND:20200119
LOCATION:Valsaín Valsaín
SUMMARY:San Antón 2020 en Valsaín
DESCRIPTION:San Antón 2020 en Valsaín El Sábado 18 de Enero de 2020\,  f
 iesta de San Antón en la localidad Segoviana de Valsaín A las 12:00 Santa
  Mirsa Cantada por la Rondalla de Valsaín. 1245: Bendición de animales\, 
  con premios para los animales mejores engalanados. 13:00 &#8211; Un Vino e
 n el[..]\nhttps://www.eventosdesegovia.com/events/san-anton-2020-en-valsain
 /
URL:https://www.eventosdesegovia.com/events/san-anton-2020-en-valsain/
END:VEVENT
END:VCALENDAR