BEGIN:VCALENDAR
VERSION:2.0
PRODID:-//eventon.com NONSGML v1.0//EN
CALSCALE:GREGORIAN
METHOD:PUBLISH
BEGIN:VEVENT
UID:69e74d4f60093
DTSTAMP:20260421T101127Z
DTSTART:20200704T080000Z
DTEND:20200704T160000Z
LOCATION:ananda.ma Calle Cardadores 5
SUMMARY:Curso Teórico-Vivencial Nutrición con Cuerpo y Corazón
DESCRIPTION:Curso Teórico-Vivencial Nutrición con Cuerpo y Corazón El pr
 óximo sábado 7 de Marzo de 2020\,  comienza el Curso Teórico-Vivencial N
 utrición con Cuerpo y Corazón un curso de largo recorrido que será 1 sá
 bado al mes y que comenzara el día 7 de marzo.realizar en el espacio de yo
 ga y consciencia[..]\nhttps://www.eventosdesegovia.com/events/curso-teorico
 -vivencial-nutricion-con-cuerpo-y-corazon-5/
URL:https://www.eventosdesegovia.com/events/curso-teorico-vivencial-nutricion-con-cuerpo-y-corazon-5/
END:VEVENT
END:VCALENDAR